BEGIN:VCALENDAR
VERSION:2.0
PRODID:-//Rede Académica das Ciências da Saúde da Lusofonia - ECPv6.15.17.1//NONSGML v1.0//EN
CALSCALE:GREGORIAN
METHOD:PUBLISH
X-WR-CALNAME:Rede Académica das Ciências da Saúde da Lusofonia
X-ORIGINAL-URL:http://racslusofonia.org
X-WR-CALDESC:Eventos para Rede Académica das Ciências da Saúde da Lusofonia
REFRESH-INTERVAL;VALUE=DURATION:PT1H
X-Robots-Tag:noindex
X-PUBLISHED-TTL:PT1H
BEGIN:VTIMEZONE
TZID:Europe/London
BEGIN:DAYLIGHT
TZOFFSETFROM:+0000
TZOFFSETTO:+0100
TZNAME:BST
DTSTART:20190331T010000
END:DAYLIGHT
BEGIN:STANDARD
TZOFFSETFROM:+0100
TZOFFSETTO:+0000
TZNAME:GMT
DTSTART:20191027T010000
END:STANDARD
BEGIN:DAYLIGHT
TZOFFSETFROM:+0000
TZOFFSETTO:+0100
TZNAME:BST
DTSTART:20200329T010000
END:DAYLIGHT
BEGIN:STANDARD
TZOFFSETFROM:+0100
TZOFFSETTO:+0000
TZNAME:GMT
DTSTART:20201025T010000
END:STANDARD
BEGIN:DAYLIGHT
TZOFFSETFROM:+0000
TZOFFSETTO:+0100
TZNAME:BST
DTSTART:20210328T010000
END:DAYLIGHT
BEGIN:STANDARD
TZOFFSETFROM:+0100
TZOFFSETTO:+0000
TZNAME:GMT
DTSTART:20211031T010000
END:STANDARD
END:VTIMEZONE
BEGIN:VEVENT
DTSTART;VALUE=DATE:20200928
DTEND;VALUE=DATE:20200930
DTSTAMP:20260421T203908
CREATED:20190814T154808Z
LAST-MODIFIED:20200924T105616Z
UID:2040-1601251200-1601423999@racslusofonia.org
SUMMARY:3ª Reunião Internacional da Rede Académica das Ciências da Saúde da Lusofonia - 3ª rRACS\, 2020
DESCRIPTION:A 3.ª Reunião Internacional da RACS irá decorrer nos dias 25 de setembro (pré-evento) e 28 e 29 de setembro de 2020 – Evento Online \n  \nA 3ª rRACS\, 2020 tem por finalidade promover a interculturalidade\, a formação e a cooperação científica entre instituições do ensino superior e centros de investigação de países e comunidades de língua portuguesa\, no âmbito das diversas áreas das ciências da saúde:  \nAudiologia | Ciências Biomédicas Laboratoriais | Ciências Dentárias | Ciências Farmacêuticas/Farmácia | Ciências Médicas | Ciências da Nutrição | Ciências da Visão | Enfermagem | Fisiologia Clínica | Fisioterapia | Imagem Médica e Radioterapia | Ortoprotesia | Psicologia da Saúde/Clínica | Podologia | Saúde e Ambiente | Saúde Oral | Terapêuticas Não Convencionais | Terapia da Fala | Terapia Ocupacional. \nNa página oficial já está disponibilizado o boletim de inscrição\, bem como todas as informações sobre a submissão de Comunicações Orais e Posteres Científicos. Poderá\, ainda\, conhecer os membros constituintes das diferentes Comissões da 3.ª rRACS\, 2020. \nMarque já na sua agenda\, contamos com a sua participação na reflexão e discussão de grandes temas da academia da saúde lusófona. \nOs resumos aceites para as Comunicações Livres e Posteres Científicos serão publicados num Suplemento da Revista RevSALUS – Revista Científica Internacional da RACS. \n 
URL:http://racslusofonia.org/event/3a-reuniao-internacional-da-rede-academica-das-ciencias-da-saude-da-lusofonia-rracs-2020/
CATEGORIES:Reunião Internacional
ORGANIZER;CN="Rede Acad%C3%A9mica das Ci%C3%AAncias da Sa%C3%BAde da Lusofonia":MAILTO:geral@racslusofonia.org
END:VEVENT
END:VCALENDAR