BEGIN:VCALENDAR
VERSION:2.0
PRODID:-//Rede Académica das Ciências da Saúde da Lusofonia - ECPv6.15.17.1//NONSGML v1.0//EN
CALSCALE:GREGORIAN
METHOD:PUBLISH
X-WR-CALNAME:Rede Académica das Ciências da Saúde da Lusofonia
X-ORIGINAL-URL:http://racslusofonia.org
X-WR-CALDESC:Eventos para Rede Académica das Ciências da Saúde da Lusofonia
REFRESH-INTERVAL;VALUE=DURATION:PT1H
X-Robots-Tag:noindex
X-PUBLISHED-TTL:PT1H
BEGIN:VTIMEZONE
TZID:Europe/London
BEGIN:DAYLIGHT
TZOFFSETFROM:+0000
TZOFFSETTO:+0100
TZNAME:BST
DTSTART:20200329T010000
END:DAYLIGHT
BEGIN:STANDARD
TZOFFSETFROM:+0100
TZOFFSETTO:+0000
TZNAME:GMT
DTSTART:20201025T010000
END:STANDARD
BEGIN:DAYLIGHT
TZOFFSETFROM:+0000
TZOFFSETTO:+0100
TZNAME:BST
DTSTART:20210328T010000
END:DAYLIGHT
BEGIN:STANDARD
TZOFFSETFROM:+0100
TZOFFSETTO:+0000
TZNAME:GMT
DTSTART:20211031T010000
END:STANDARD
BEGIN:DAYLIGHT
TZOFFSETFROM:+0000
TZOFFSETTO:+0100
TZNAME:BST
DTSTART:20220327T010000
END:DAYLIGHT
BEGIN:STANDARD
TZOFFSETFROM:+0100
TZOFFSETTO:+0000
TZNAME:GMT
DTSTART:20221030T010000
END:STANDARD
END:VTIMEZONE
BEGIN:VEVENT
DTSTART;TZID=Europe/London:20210322T180000
DTEND;TZID=Europe/London:20210322T193000
DTSTAMP:20260421T235107
CREATED:20210226T163419Z
LAST-MODIFIED:20210322T143934Z
UID:2817-1616436000-1616441400@racslusofonia.org
SUMMARY:Webinar Ambiente e Saúde - Recursos Hídricos | 22 de março de 2021
DESCRIPTION:O Núcleo Académico de Saúde e Ambiente (NASA) da Rede Académica das Ciências da Saúde da Lusofonia – RACS realiza no próximo dia 22 de março de 2021\, às 18:00h (hora local em Portugal Continental)\, o webinar Ambiente e Saúde – Recursos Hídricos. \nEste webinar\, que ocorrerá no dia em que se assinala o Dia Mundial da Água\, será moderado pela Prof.ª Doutora Susana Paixão\, da Escola Superior de Tecnologia da Saúde de Coimbra e representante do NASA\, e o painel de oradores contará com a participação de: Guilherme Netto (Fio Cruz\, Brasil)\, Ana Paula Malo (APA / ARH Centro\, Portugal) e Silene Ximenes (FUNASA\, Brasil). \nA inscrição é gratuita. Inscreva-se em: https://inqueritos2.ipc.pt/limesurvey/index.php/727681/lang-pt e garanta já a sua presença neste evento. \nContamos com a sua participação! \n 
URL:http://racslusofonia.org/event/webinar-ambiente-e-saude-recursos-hidricos-22-de-marco-de-2021/
LOCATION:Online
ORGANIZER;CN="Rede Acad%C3%A9mica das Ci%C3%AAncias da Sa%C3%BAde da Lusofonia":MAILTO:geral@racslusofonia.org
END:VEVENT
END:VCALENDAR