BEGIN:VCALENDAR
VERSION:2.0
PRODID:-//Rede Académica das Ciências da Saúde da Lusofonia - ECPv6.15.17.1//NONSGML v1.0//EN
CALSCALE:GREGORIAN
METHOD:PUBLISH
X-WR-CALNAME:Rede Académica das Ciências da Saúde da Lusofonia
X-ORIGINAL-URL:http://racslusofonia.org
X-WR-CALDESC:Eventos para Rede Académica das Ciências da Saúde da Lusofonia
REFRESH-INTERVAL;VALUE=DURATION:PT1H
X-Robots-Tag:noindex
X-PUBLISHED-TTL:PT1H
BEGIN:VTIMEZONE
TZID:Europe/London
BEGIN:DAYLIGHT
TZOFFSETFROM:+0000
TZOFFSETTO:+0100
TZNAME:BST
DTSTART:20200329T010000
END:DAYLIGHT
BEGIN:STANDARD
TZOFFSETFROM:+0100
TZOFFSETTO:+0000
TZNAME:GMT
DTSTART:20201025T010000
END:STANDARD
BEGIN:DAYLIGHT
TZOFFSETFROM:+0000
TZOFFSETTO:+0100
TZNAME:BST
DTSTART:20210328T010000
END:DAYLIGHT
BEGIN:STANDARD
TZOFFSETFROM:+0100
TZOFFSETTO:+0000
TZNAME:GMT
DTSTART:20211031T010000
END:STANDARD
BEGIN:DAYLIGHT
TZOFFSETFROM:+0000
TZOFFSETTO:+0100
TZNAME:BST
DTSTART:20220327T010000
END:DAYLIGHT
BEGIN:STANDARD
TZOFFSETFROM:+0100
TZOFFSETTO:+0000
TZNAME:GMT
DTSTART:20221030T010000
END:STANDARD
END:VTIMEZONE
BEGIN:VEVENT
DTSTART;TZID=Europe/London:20210422T190000
DTEND;TZID=Europe/London:20210422T203000
DTSTAMP:20260422T033747
CREATED:20210415T145610Z
LAST-MODIFIED:20210415T145757Z
UID:2941-1619118000-1619123400@racslusofonia.org
SUMMARY:Webinar Ambiente e Saúde - Gestão de resíduos e desenvolvimento sustentável
DESCRIPTION:O Núcleo Académico de Saúde e Ambiente (NASA – RACS) da Rede Académica das Ciências da Saúde da Lusofonia – RACS realiza a partir do Brasil\, no próximo dia 22 de abril de 2021\, às 19:00h de Portugal Continental\, o webinar Ambiente e Saúde – Gestão de resíduos e desenvolvimento sustentável.  \nNeste webinar pretende-se discutir soluções para os principais problemas ambientais relacionados com a gestão de resíduos e desenvolvimento sustentável. \nA moderação do evento estará ao cargo do Prof. Doutor Luiz Rodrigues e da Prof.ª Doutora Rita Lima\, do Centro Universitário Celso Lisboa (Rio de Janeiro\, Brasil)\, membros do NASA – RACS\, e o painel de oradores contará com a participação de: Gabriela Corrêa (Brasil)\, Maurício Castro (Brasil) e Susana Paixão (Portugal).  \nA sessão será transmitida ao vivo no canal de Youtube Celso Lisboa (Rio de Janeiro\, Brasil). \nA participação é gratuita\, mas sujeita a inscrição aqui. \n  \nContamos com a sua participação! \n 
URL:http://racslusofonia.org/event/webinar-ambiente-e-saude-gestao-de-residuos-e-desenvolvimento-sustentavel/
CATEGORIES:Núcleos Académicos da RACS
ORGANIZER;CN="Rede Acad%C3%A9mica das Ci%C3%AAncias da Sa%C3%BAde da Lusofonia":MAILTO:geral@racslusofonia.org
END:VEVENT
END:VCALENDAR