BEGIN:VCALENDAR
VERSION:2.0
PRODID:-//Rede Académica das Ciências da Saúde da Lusofonia - ECPv6.15.17.1//NONSGML v1.0//EN
CALSCALE:GREGORIAN
METHOD:PUBLISH
X-ORIGINAL-URL:http://racslusofonia.org
X-WR-CALDESC:Eventos para Rede Académica das Ciências da Saúde da Lusofonia
REFRESH-INTERVAL;VALUE=DURATION:PT1H
X-Robots-Tag:noindex
X-PUBLISHED-TTL:PT1H
BEGIN:VTIMEZONE
TZID:Europe/London
BEGIN:DAYLIGHT
TZOFFSETFROM:+0000
TZOFFSETTO:+0100
TZNAME:BST
DTSTART:20200329T010000
END:DAYLIGHT
BEGIN:STANDARD
TZOFFSETFROM:+0100
TZOFFSETTO:+0000
TZNAME:GMT
DTSTART:20201025T010000
END:STANDARD
BEGIN:DAYLIGHT
TZOFFSETFROM:+0000
TZOFFSETTO:+0100
TZNAME:BST
DTSTART:20210328T010000
END:DAYLIGHT
BEGIN:STANDARD
TZOFFSETFROM:+0100
TZOFFSETTO:+0000
TZNAME:GMT
DTSTART:20211031T010000
END:STANDARD
BEGIN:DAYLIGHT
TZOFFSETFROM:+0000
TZOFFSETTO:+0100
TZNAME:BST
DTSTART:20220327T010000
END:DAYLIGHT
BEGIN:STANDARD
TZOFFSETFROM:+0100
TZOFFSETTO:+0000
TZNAME:GMT
DTSTART:20221030T010000
END:STANDARD
END:VTIMEZONE
BEGIN:VEVENT
DTSTART;TZID=Europe/London:20210512T143000
DTEND;TZID=Europe/London:20210512T153000
DTSTAMP:20260422T102147
CREATED:20210414T085153Z
LAST-MODIFIED:20210429T102733Z
UID:2952-1620829800-1620833400@racslusofonia.org
SUMMARY:Sessão de apresentação da RevSALUS - webinar 12 de maio de 2021
DESCRIPTION:O Conselho Editorial da RevSALUS – Revista científica internacional da RACS (Rede Académica das Ciências da Saúde da Lusofonia)\, realizará no próximo dia 12 de maio de 2021\, um webinar de apresentação desta revista internacional\, no seguinte horário: \n\nAngola: 14h30\nBrasil: 10h30\nCabo Verde: 12h30\nGuiné-Bissau: 13h30\nMacau: 21h30\nMoçambique: 15h30\nPortugal: 14h30\nS. Tomé e Príncipe: 13h30\nTimor: 22h30\n\nEsta Sessão terá a duração de uma (1) hora e será dirigida aos membros da comunidade científica e académica dos membros associados e Entidades Parceiras da RACS\, nomeadamente docentes\, investigadores\, profissionais não docentes e estudantes e\, ainda\, para outras entidades ou IES não associadas da RACS. \nPrograma da sessão: \n\nApresentação da RevSALUS\, Prof. Doutor Ricardo Jorge Dinis-Oliveira (Editor Chefe)\nCriação da revista e seu logotipo\nMissão e finalidades\nÓrgãos de gestão editorial\nOrganograma\nPerfil Editorial\nPlataforma de gestão editorial e submissões \nNormas de publicação\nPublicações\nReconhecimento científico\n\nDebate e esclarecimento de questões\n\n  \n \n  \nA participação é gratuita\, mas sujeita a inscrição até 11 de maio de 2021 – aqui. \nA sua participação é fundamental para o sucesso e crescimento da Revista RevSALUS e da difusão da produção científica internacional em língua portuguesa.
URL:http://racslusofonia.org/event/sessao-de-apresentacao-da-revsalus-webinar-12-de-maio-de-2021-14h30/
ORGANIZER;CN="Rede Acad%C3%A9mica das Ci%C3%AAncias da Sa%C3%BAde da Lusofonia":MAILTO:geral@racslusofonia.org
END:VEVENT
END:VCALENDAR