BEGIN:VCALENDAR
VERSION:2.0
PRODID:-//Rede Académica das Ciências da Saúde da Lusofonia - ECPv6.15.17.1//NONSGML v1.0//EN
CALSCALE:GREGORIAN
METHOD:PUBLISH
X-WR-CALNAME:Rede Académica das Ciências da Saúde da Lusofonia
X-ORIGINAL-URL:http://racslusofonia.org
X-WR-CALDESC:Eventos para Rede Académica das Ciências da Saúde da Lusofonia
REFRESH-INTERVAL;VALUE=DURATION:PT1H
X-Robots-Tag:noindex
X-PUBLISHED-TTL:PT1H
BEGIN:VTIMEZONE
TZID:Europe/London
BEGIN:DAYLIGHT
TZOFFSETFROM:+0000
TZOFFSETTO:+0100
TZNAME:BST
DTSTART:20200329T010000
END:DAYLIGHT
BEGIN:STANDARD
TZOFFSETFROM:+0100
TZOFFSETTO:+0000
TZNAME:GMT
DTSTART:20201025T010000
END:STANDARD
BEGIN:DAYLIGHT
TZOFFSETFROM:+0000
TZOFFSETTO:+0100
TZNAME:BST
DTSTART:20210328T010000
END:DAYLIGHT
BEGIN:STANDARD
TZOFFSETFROM:+0100
TZOFFSETTO:+0000
TZNAME:GMT
DTSTART:20211031T010000
END:STANDARD
BEGIN:DAYLIGHT
TZOFFSETFROM:+0000
TZOFFSETTO:+0100
TZNAME:BST
DTSTART:20220327T010000
END:DAYLIGHT
BEGIN:STANDARD
TZOFFSETFROM:+0100
TZOFFSETTO:+0000
TZNAME:GMT
DTSTART:20221030T010000
END:STANDARD
END:VTIMEZONE
BEGIN:VEVENT
DTSTART;TZID=Europe/London:20210521T163000
DTEND;TZID=Europe/London:20210521T173000
DTSTAMP:20260422T101807
CREATED:20210518T152235Z
LAST-MODIFIED:20210518T152235Z
UID:3053-1621614600-1621618200@racslusofonia.org
SUMMARY:Seminário "As plantas medicinais e a validação do seu uso tradicional pela EMA”
DESCRIPTION:O Núcleo Académico de Farmácia/Ciências Farmacêuticas (NAFCF – RACS) da Rede Académica das Ciências da Saúde da Lusofonia – RACS realiza a partir de Lisboa (Portugal)\, no próximo dia 21 de maio de 2021\, um Seminário via web sobre As plantas medicinais e a validação do seu uso tradicional pela EMA no seguinte horário: \n\nAngola: 16h30\nBrasil: 12h30\nCabo Verde: 14h30\nGuiné-Bissau: 15h30\nMoçambique: 17h30\nPortugal: 16h30\nS. Tomé e Príncipe: 15h30\n\nA moderação e apresentação do Seminário estará ao cargo da Prof.ª Doutora Maria do Céu Costa\, do IPLUSO – Instituto Politécnico da Lusofonia (Lisboa – Portugal)\, membro do NAFACF – RACS. Este evento insere-se no âmbito das Atividades do Núcleo Académico de Farmácia/Ciências Farmacêuticas (NAFCF) da RACS\, com o objetivo de celebrar o Dia da Planta Medicinal. \nPrograma: \n\n16h30 -16h35: Abertura \n16h35 – 17h00: As plantas medicinais e a validação do seu uso tradicional pela EMA\n17h00 – 17h15: Questões & Respostas\n\nVIA ZOOM\nID da reunião: 88542009133 \nA participação é gratuita e será efetuada através do acesso à seguinte ligação: https://videoconf-colibri.zoom.us/j/88542009133. \nContamos com a sua participação neste evento de âmbito internacional\, dinamizado pelo Núcleo Académico de Farmácia/Ciências Farmacêuticas da RACS.
URL:http://racslusofonia.org/event/seminario-plantas-medicinais/
LOCATION:Online
CATEGORIES:Núcleos Académicos da RACS
ORGANIZER;CN="Rede Acad%C3%A9mica das Ci%C3%AAncias da Sa%C3%BAde da Lusofonia":MAILTO:geral@racscplp.org
END:VEVENT
END:VCALENDAR