BEGIN:VCALENDAR
VERSION:2.0
PRODID:-//Rede Académica das Ciências da Saúde da Lusofonia - ECPv6.15.17.1//NONSGML v1.0//EN
CALSCALE:GREGORIAN
METHOD:PUBLISH
X-ORIGINAL-URL:http://racslusofonia.org
X-WR-CALDESC:Eventos para Rede Académica das Ciências da Saúde da Lusofonia
REFRESH-INTERVAL;VALUE=DURATION:PT1H
X-Robots-Tag:noindex
X-PUBLISHED-TTL:PT1H
BEGIN:VTIMEZONE
TZID:Europe/London
BEGIN:DAYLIGHT
TZOFFSETFROM:+0000
TZOFFSETTO:+0100
TZNAME:BST
DTSTART:20200329T010000
END:DAYLIGHT
BEGIN:STANDARD
TZOFFSETFROM:+0100
TZOFFSETTO:+0000
TZNAME:GMT
DTSTART:20201025T010000
END:STANDARD
BEGIN:DAYLIGHT
TZOFFSETFROM:+0000
TZOFFSETTO:+0100
TZNAME:BST
DTSTART:20210328T010000
END:DAYLIGHT
BEGIN:STANDARD
TZOFFSETFROM:+0100
TZOFFSETTO:+0000
TZNAME:GMT
DTSTART:20211031T010000
END:STANDARD
BEGIN:DAYLIGHT
TZOFFSETFROM:+0000
TZOFFSETTO:+0100
TZNAME:BST
DTSTART:20220327T010000
END:DAYLIGHT
BEGIN:STANDARD
TZOFFSETFROM:+0100
TZOFFSETTO:+0000
TZNAME:GMT
DTSTART:20221030T010000
END:STANDARD
END:VTIMEZONE
BEGIN:VEVENT
DTSTART;VALUE=DATE:20211125
DTEND;VALUE=DATE:20211128
DTSTAMP:20260422T231137
CREATED:20210401T115114Z
LAST-MODIFIED:20230830T152435Z
UID:2866-1637798400-1638057599@racslusofonia.org
SUMMARY:4ª Reunião Internacional da Rede Académica das Ciências da Saúde da Lusofonia - 4ª rRACS\, 2021
DESCRIPTION:A 4.ª Reunião Internacional da RACS irá decorrer nos dias 25\, 26 e 27 de novembro de 2021 em Benguela\, Angola – evento presencial ou online \n \nA RACS elegeu como seu referencial identitário o intercâmbio e o desenvolvimento da cooperação internacional\, como um dos pilares fundacionais\, materializado através da realização de reuniões magnas internacionais. \nNeste contexto\, a próxima Reunião Internacional\, a 4.ª rRACS\, 2021\, vai realizar-se num cenário edílico no litoral de Angola\, na bela cidade de Benguela\, organizada por um consórcio constituído pelos membros da Rede deste magnífico país africano. \nA 4.ª Reunião Internacional da RACS pretende dar continuidade à matriz multidimensional\, observada nas três últimas reuniões realizadas em Portugal\, que vai desde a ação política académica\, à componente científica\, pedagógica\, sociocultural\, empresarial\, corporativa\, associativa\, até à institucional interna da RACS\, com o foco nas ciências da saúde. \nEsta magna Reunião tem por finalidade promover a interculturalidade\, a formação e a cooperação científica entre instituições do ensino superior e centros de investigação de países e comunidades de língua portuguesa\, no âmbito das diversas áreas das ciências da saúde:  \nAudiologia | Ciências Biomédicas Laboratoriais | Ciências Dentárias | Ciências Farmacêuticas/Farmácia | Ciências Médicas | Ciências da Nutrição | Ciências da Visão | Enfermagem | Fisiologia Clínica | Fisioterapia | Imagem Médica e Radioterapia | Medicina Dentária | Ortoprotesia | Psicologia da Saúde/Clínica | Podologia | Saúde e Ambiente | Saúde Oral | Terapêuticas Não Convencionais | Terapia da Fala | Terapia Ocupacional e outras áreas afins \nNa página oficial do evento estão disponibilizadas todas as informações sobre a submissão de trabalhos científicos. Poderá\, ainda\, conhecer os membros constituintes das diferentes Comissões da 4ª rRACS\, 2021. \nAs submissões encontram-se encerradas. \n Está também disponível o Boletim de inscrição para as duas modalidades de participação no evento – presencial ou online. \n\n\n\nModalidade de participação\nFormulário\n\n\nPresencial\nMembros da RACS\n\n\nNão Membros da RACS\n\n\nOnline\nMembros da RACS\n\n\nNão Membros da RACS\n\n\n\nMarque já na sua agenda\, contamos com a sua participação na reflexão e discussão de grandes temas da academia da saúde lusófona. \nOs resumos aceites para as Comunicações Livres e Pósteres Científicos serão publicados num Suplemento da Revista RevSALUS – Revista Científica Internacional da RACS. \n\nValores dos bilhetes de avião para participação presencial na 4ª rRACS\, 2021\nInformamos todos os interessados em participar na 4ª Reunião Internacional da RACS em formato presencial\, nos dias 25\, 26 e 27 de novembro de 2021\, sobre os valores dos bilhetes de avião para o percurso Lisboa-Luanda-Catumbela-Luanda-Lisboa. \n\nA data do voo de ida (LISBOA/LUANDA/CATUMBELA) será no dia 22 de novembro de 2021*;\nA data do voo de regresso (CATUMBELA/LUANDA/LISBOA) será no dia 28 de novembro de 2021*;\nCada bilhete terá o valor de 671\,00€ (RBD´s X/B)\, com franquia de bagagem 01x23kg + 07kg de bagagem mão. Estes bilhetes não podem ser alterados nem têm reembolso por se tratarem de bilhetes internacionais com desconto;\nOs passageiros são responsáveis pela documentação e testes de COVID-19 exigidos à entrada e saída do país: boletim de vacinas (febre amarela)\, teste PCR COVID-19 com 72h de antecedência à viagem (além da vacina contra a COVID-19)\, e testes à COVID-19 à chegada e saída de Angola (com custo associado);\nA data limite para aquisição dos bilhetes junto da TAAG é até ao dia 05 de novembro de 2021;\nCada passageiro deve enviar até ao dia 04 de novembro de 2021 para o e-mail geral da RACS (geral@racslusofonia.org)\, o primeiro e último nome\, nacionalidade\, data de nascimento\, número de contribuinte e digitalização do passaporte (visível) e do boletim de vacinas;\nO pagamento do bilhete deve ser efetuado por transferência bancária\, para os seguintes dados:\nIBAN: PT50 0035 0379 00004417 730 84\nSWIFT Code/BIC: CGDIPTPL\nNome do Banco: Caixa Geral de Depósitos\nAssim que seja efetuado o pagamento\, o participante tem de enviar o comprovativo da transferência para o e-mail da RACS acima mencionado.\n\n*Horários dos voos a confirmar.  \nInformação complementar: \n\nSeguro: o seguro não está contemplado no valor do bilhete\, pelo que cada participante é responsável por fazê-lo junto de uma companhia de seguros.\nPedido de visto: para solicitar a emissão de um visto de curta duração\, consulte a página do Serviço de Migração e Estrangeiros – SME\, em: https://www.sme.gov.ao/solicitarvisto/ (na tabela lateral esquerda consta o botão “Solicitar visto”);\n\nReserva de hotel: 10% desconto em reservas antecipadas de 3 ou mais noites\, feitas até 10 Novembro. Consulte informações em https://4rracs.ao/booking.php e efetue a reserva diretamente na página Hotéis Angola\, em https://www.hoteisangola.com/. 
URL:http://racslusofonia.org/event/4a-reuniao-internacional-da-rede-academica-das-ciencias-da-saude-da-lusofonia-4a-rracs-2021/
LOCATION:Benguela\, Angola\, Benguela\, Benguela\, Angola
CATEGORIES:Reunião Internacional
ORGANIZER;CN="Rede Acad%C3%A9mica das Ci%C3%AAncias da Sa%C3%BAde da Lusofonia":MAILTO:geral@racslusofonia.org
END:VEVENT
END:VCALENDAR