BEGIN:VCALENDAR
VERSION:2.0
PRODID:-//Rede Académica das Ciências da Saúde da Lusofonia - ECPv6.15.20//NONSGML v1.0//EN
CALSCALE:GREGORIAN
METHOD:PUBLISH
X-ORIGINAL-URL:http://racslusofonia.org
X-WR-CALDESC:Eventos para Rede Académica das Ciências da Saúde da Lusofonia
REFRESH-INTERVAL;VALUE=DURATION:PT1H
X-Robots-Tag:noindex
X-PUBLISHED-TTL:PT1H
BEGIN:VTIMEZONE
TZID:Europe/London
BEGIN:DAYLIGHT
TZOFFSETFROM:+0000
TZOFFSETTO:+0100
TZNAME:BST
DTSTART:20220327T010000
END:DAYLIGHT
BEGIN:STANDARD
TZOFFSETFROM:+0100
TZOFFSETTO:+0000
TZNAME:GMT
DTSTART:20221030T010000
END:STANDARD
BEGIN:DAYLIGHT
TZOFFSETFROM:+0000
TZOFFSETTO:+0100
TZNAME:BST
DTSTART:20230326T010000
END:DAYLIGHT
BEGIN:STANDARD
TZOFFSETFROM:+0100
TZOFFSETTO:+0000
TZNAME:GMT
DTSTART:20231029T010000
END:STANDARD
BEGIN:DAYLIGHT
TZOFFSETFROM:+0000
TZOFFSETTO:+0100
TZNAME:BST
DTSTART:20240331T010000
END:DAYLIGHT
BEGIN:STANDARD
TZOFFSETFROM:+0100
TZOFFSETTO:+0000
TZNAME:GMT
DTSTART:20241027T010000
END:STANDARD
END:VTIMEZONE
BEGIN:VEVENT
DTSTART;TZID=Europe/London:20230302T130000
DTEND;TZID=Europe/London:20230302T160000
DTSTAMP:20260425T180142
CREATED:20230223T104552Z
LAST-MODIFIED:20230301T144852Z
UID:4054-1677762000-1677772800@racslusofonia.org
SUMMARY:Seminário "Investigação em Enfermagem na Lusofonia"
DESCRIPTION:O Núcleo Académico de Enfermagem (NAE – RACS) da Rede Académica das Ciências da Saúde da Lusofonia – RACS\, com o apoio da Escola Superior de Saúde de Leiria\, realiza no dia 02 de março de 2023 o Seminário online “Investigação em Enfermagem na Lusofonia” no seguinte horário: \n\nBrasília: 10h00 às 13:00\nPraia: 12h00 às 15:00\nBissau/Lisboa/São Tomé: 13:00 às 16h00\nDíli: 22:00 às 01:00\nLuanda: 14:00 às 17:00\nMaputo: 15h00 às 18:00\n\nOs painéis contarão com a participação de vários e distintos oradores de diversos países lusófonos\, que promoverão um espaço de diálogo sobre a realidade da investigação em enfermagem nos países da lusofonia\, suas realidades e desafios\, assim como a criação de redes de investigação. \nA participação é gratuita\, mas de inscrição obrigatória. \nConsulte o programa deste seminário internacional e a informação sobre inscrições na página do evento. \nContamos com a sua participação neste evento de âmbito internacional\, dinamizado pelo Núcleo Académico de Enfermagem da RACS. \n 
URL:http://racslusofonia.org/event/seminario-investigacao-em-enfermagem-na-lusofonia/
CATEGORIES:Núcleos Académicos da RACS
ORGANIZER;CN="Rede Acad%C3%A9mica das Ci%C3%AAncias da Sa%C3%BAde da Lusofonia":MAILTO:geral@racslusofonia.org
END:VEVENT
END:VCALENDAR