BEGIN:VCALENDAR
VERSION:2.0
PRODID:-//Rede Académica das Ciências da Saúde da Lusofonia - ECPv6.15.17.1//NONSGML v1.0//EN
CALSCALE:GREGORIAN
METHOD:PUBLISH
X-ORIGINAL-URL:http://racslusofonia.org
X-WR-CALDESC:Eventos para Rede Académica das Ciências da Saúde da Lusofonia
REFRESH-INTERVAL;VALUE=DURATION:PT1H
X-Robots-Tag:noindex
X-PUBLISHED-TTL:PT1H
BEGIN:VTIMEZONE
TZID:Europe/London
BEGIN:DAYLIGHT
TZOFFSETFROM:+0000
TZOFFSETTO:+0100
TZNAME:BST
DTSTART:20210328T010000
END:DAYLIGHT
BEGIN:STANDARD
TZOFFSETFROM:+0100
TZOFFSETTO:+0000
TZNAME:GMT
DTSTART:20211031T010000
END:STANDARD
BEGIN:DAYLIGHT
TZOFFSETFROM:+0000
TZOFFSETTO:+0100
TZNAME:BST
DTSTART:20220327T010000
END:DAYLIGHT
BEGIN:STANDARD
TZOFFSETFROM:+0100
TZOFFSETTO:+0000
TZNAME:GMT
DTSTART:20221030T010000
END:STANDARD
BEGIN:DAYLIGHT
TZOFFSETFROM:+0000
TZOFFSETTO:+0100
TZNAME:BST
DTSTART:20230326T010000
END:DAYLIGHT
BEGIN:STANDARD
TZOFFSETFROM:+0100
TZOFFSETTO:+0000
TZNAME:GMT
DTSTART:20231029T010000
END:STANDARD
END:VTIMEZONE
BEGIN:VEVENT
DTSTART;TZID=Europe/London:20220520T130000
DTEND;TZID=Europe/London:20220520T153000
DTSTAMP:20260422T234849
CREATED:20220412T120132Z
LAST-MODIFIED:20220422T151331Z
UID:3614-1653051600-1653060600@racslusofonia.org
SUMMARY:Seminário “Ensino da Enfermagem na Lusofonia”
DESCRIPTION:O Núcleo Académico de Enfermagem (NAE – RACS) da Rede Académica das Ciências da Saúde da Lusofonia – RACS realiza no dia 20 de maio de 2022\, o Seminário “Ensino da Enfermagem na Lusofonia” no seguinte horário: \n\nBrasília: 09h00\nPraia: 11h00\nBissau/São Tomé: 12h00\nLuanda/Lisboa: 13h00\nMaputo: 14h00\n\nO primeiro painel “O Ensino da Enfermagem na Lusofonia: Realidades e Dificuldades” será moderado por Fátima Moreira e Cristina Jeremias\, docentes na Escola Superior de Enfermagem de Lisboa (Portugal)\, e o segundo painel “Reconhecimento de diplomas e graus em Enfermagem” será moderado por Luís Carvalho\, Presidente da Escola Superior de Enfermagem do Porto (Portugal). \nOs painéis contarão com a participação de vários e distintos oradores de diversos países lusófonos\, que irão apresentar a realidade do ensino da enfermagem nos seus respetivos países\, suas dificuldades e oportunidades.. \nA participação é gratuita\, mas de inscrição obrigatória até dia 15 de maio de 2022. \nConsulte o programa deste seminário internacional e a informação sobre inscrições na página do evento\, em: http://i-d.esenf.pt/ensino-enfermagem-lusofonia/. \nContamos com a sua participação neste evento de âmbito internacional\, dinamizado pelo Núcleo Académico de Enfermagem da RACS. \n 
URL:http://racslusofonia.org/event/seminario-ensino-da-enfermagem-na-lusofonia/
LOCATION:Online
CATEGORIES:Núcleos Académicos da RACS
ORGANIZER;CN="Rede Acad%C3%A9mica das Ci%C3%AAncias da Sa%C3%BAde da Lusofonia":MAILTO:geral@racslusofonia.org
END:VEVENT
END:VCALENDAR