BEGIN:VCALENDAR
VERSION:2.0
PRODID:-//Rede Académica das Ciências da Saúde da Lusofonia - ECPv6.15.17.1//NONSGML v1.0//EN
CALSCALE:GREGORIAN
METHOD:PUBLISH
X-ORIGINAL-URL:http://racslusofonia.org
X-WR-CALDESC:Eventos para Rede Académica das Ciências da Saúde da Lusofonia
REFRESH-INTERVAL;VALUE=DURATION:PT1H
X-Robots-Tag:noindex
X-PUBLISHED-TTL:PT1H
BEGIN:VTIMEZONE
TZID:Europe/London
BEGIN:DAYLIGHT
TZOFFSETFROM:+0000
TZOFFSETTO:+0100
TZNAME:BST
DTSTART:20210328T010000
END:DAYLIGHT
BEGIN:STANDARD
TZOFFSETFROM:+0100
TZOFFSETTO:+0000
TZNAME:GMT
DTSTART:20211031T010000
END:STANDARD
BEGIN:DAYLIGHT
TZOFFSETFROM:+0000
TZOFFSETTO:+0100
TZNAME:BST
DTSTART:20220327T010000
END:DAYLIGHT
BEGIN:STANDARD
TZOFFSETFROM:+0100
TZOFFSETTO:+0000
TZNAME:GMT
DTSTART:20221030T010000
END:STANDARD
BEGIN:DAYLIGHT
TZOFFSETFROM:+0000
TZOFFSETTO:+0100
TZNAME:BST
DTSTART:20230326T010000
END:DAYLIGHT
BEGIN:STANDARD
TZOFFSETFROM:+0100
TZOFFSETTO:+0000
TZNAME:GMT
DTSTART:20231029T010000
END:STANDARD
END:VTIMEZONE
BEGIN:VEVENT
DTSTART;TZID=Europe/London:20220608T143000
DTEND;TZID=Europe/London:20220608T160000
DTSTAMP:20260423T012757
CREATED:20220516T103521Z
LAST-MODIFIED:20220516T103638Z
UID:3676-1654698600-1654704000@racslusofonia.org
SUMMARY:Webinar – Sessão Comemorativa 3 anos da RevSALUS
DESCRIPTION:O Conselho Editorial da RevSALUS – Revista Científica Internacional da RACS (Rede Académica das Ciências da Saúde da Lusofonia)\, realiza no próximo dia 08 de junho de 2022\, um webinar para assinalar os 3 anos de atividade desta revista internacional\, no seguinte horário: \n\nAngola: 14h30\nBrasil: 10h30\nCabo Verde: 12h30\nGuiné-Bissau: 13h30\nMacau: 21h30\nMoçambique: 15h30\nPortugal: 14h30\nS. Tomé Príncipe: 13h30\nTimor: 22h30\n\nEsta sessão terá a duração de cerca de uma (1) hora e trinta minutos e será dirigida aos membros das comunidades académicas e científicas das Instituições membros da RACS\, membros das Entidades Parceiras da RACS\, membros dos Núcleos Académicos e de outras estruturas internas da RACS e\, ainda\, membros das IES e Entidades não associadas da RACS. \nPrograma da sessão (provisório): \n\nBreve apresentação da revista;\nBalanço dos 3 anos de publicações da revista:\n– número de submissões\n– número de artigos publicados\n– países de origem dos trabalhos publicados\n– principais áreas das ciências da saúde representadas\n– instituições de origem dos autores\n\n\nEdições especiais da revista – Suplementos;\nPerspetiva dos próximos 3 anos.\n\n \n  \nA participação é gratuita\, mas sujeita a inscrição até 06 de junho de 2022 – aqui. \nContamos com a sua presença!
URL:http://racslusofonia.org/event/webinar-sessao-comemorativa-3-anos-da-revsalus/
ORGANIZER;CN="Rede Acad%C3%A9mica das Ci%C3%AAncias da Sa%C3%BAde da Lusofonia":MAILTO:geral@racslusofonia.org
END:VEVENT
BEGIN:VEVENT
DTSTART;TZID=Europe/London:20220624T150000
DTEND;TZID=Europe/London:20220624T160000
DTSTAMP:20260423T012757
CREATED:20220614T110713Z
LAST-MODIFIED:20220615T091418Z
UID:3726-1656082800-1656086400@racslusofonia.org
SUMMARY:Ciclo de webinars “O Estado da Arte em Farmácia e Ciências Farmacêuticas”
DESCRIPTION:O Núcleo Académico de Farmácia/Ciências Farmacêuticas (NAFCF – RACS) da Rede Académica das Ciências da Saúde da Lusofonia realiza um ciclo de seis webinars ao longo do ano de 2022\, dedicado ao tema “O Estado da Arte em Farmácia e Ciências Farmacêuticas”. \nOs seis webinars são: \n\nWebinar “Microbioma da pele e dermatite atópica” com a Professora Doutora Ana Paula Fonseca\, da ESTESC – Escola Superior de Tecnologia da Saúde de Coimbra – IPC (Portugal)\, no dia 24 de junho de 2022\nWebinar “Farmacogenómica” com a Professora Doutora Marlene Santos\, do Instituto Politécnico do Porto (Portugal)\,  no dia 08 de julho de 2022\nWebinar “Farmácias Vivas” com a Professora Doutora Raquel Moreira (Brasil)\, investigadora em mobilidade na Faculdade de Farmácia da Universidade de Coimbra (Portugal)\, no dia 08 de setembro de 2022\nWebinar “Seguimento em dermofarmácia e cosmética” com a Professora Doutora Tânia do Nascimento\, da Universidade do Algarve (Portugal)\, no dia 06 de outubro de 2022\nWebinar “Caraterização do perfil de intoxicações a nível hospitalar em Portugal” com o Professor Doutor André Araújo Pereira\, do Instituto Politécnico da Guarda (Portugal)\, no dia 10 de novembro de 2022\nWebinar “A Fitoterapia e os recetores da felicidade” com a Professora Doutora Maria do Céu Costa\, do Instituto Politécnico da Lusofonia (Portugal)\, no dia 16 de dezembro de 2022\n\nAs sessões têm a duração de uma hora e decorrem no seguinte horário: \n\nSão Paulo\, Brasil: 11h00\nCabo Verde: 13h00\nGuiné-Bissau/São Tomé e Príncipe: 14h00\nAngola/Portugal: 15h00\nMoçambique: 16h00\n\nA participação é gratuita\, mas sujeita a inscrição através da seguinte ligação: https://videoconf-colibri.zoom.us/meeting/register/tZ0udOqsrz8vHtAwJZIJhZrxnc-uAzH7DQrd. \n  \nContamos com a sua participação neste evento dinamizado pelo Núcleo Académico de Farmácia/Ciências Farmacêuticas da RACS. \n 
URL:http://racslusofonia.org/event/webinars-estado-arte-em-farmacia/
LOCATION:Online
CATEGORIES:Núcleos Académicos da RACS
ORGANIZER;CN="Rede Acad%C3%A9mica das Ci%C3%AAncias da Sa%C3%BAde da Lusofonia":MAILTO:geral@racslusofonia.org
END:VEVENT
END:VCALENDAR