BEGIN:VCALENDAR
VERSION:2.0
PRODID:-//Rede Académica das Ciências da Saúde da Lusofonia - ECPv6.15.20//NONSGML v1.0//EN
CALSCALE:GREGORIAN
METHOD:PUBLISH
X-ORIGINAL-URL:http://racslusofonia.org
X-WR-CALDESC:Eventos para Rede Académica das Ciências da Saúde da Lusofonia
REFRESH-INTERVAL;VALUE=DURATION:PT1H
X-Robots-Tag:noindex
X-PUBLISHED-TTL:PT1H
BEGIN:VTIMEZONE
TZID:Europe/London
BEGIN:DAYLIGHT
TZOFFSETFROM:+0000
TZOFFSETTO:+0100
TZNAME:BST
DTSTART:20210328T010000
END:DAYLIGHT
BEGIN:STANDARD
TZOFFSETFROM:+0100
TZOFFSETTO:+0000
TZNAME:GMT
DTSTART:20211031T010000
END:STANDARD
BEGIN:DAYLIGHT
TZOFFSETFROM:+0000
TZOFFSETTO:+0100
TZNAME:BST
DTSTART:20220327T010000
END:DAYLIGHT
BEGIN:STANDARD
TZOFFSETFROM:+0100
TZOFFSETTO:+0000
TZNAME:GMT
DTSTART:20221030T010000
END:STANDARD
BEGIN:DAYLIGHT
TZOFFSETFROM:+0000
TZOFFSETTO:+0100
TZNAME:BST
DTSTART:20230326T010000
END:DAYLIGHT
BEGIN:STANDARD
TZOFFSETFROM:+0100
TZOFFSETTO:+0000
TZNAME:GMT
DTSTART:20231029T010000
END:STANDARD
END:VTIMEZONE
BEGIN:VEVENT
DTSTART;TZID=Europe/London:20221109T140000
DTEND;TZID=Europe/London:20221109T153000
DTSTAMP:20260423T104610
CREATED:20221017T093801Z
LAST-MODIFIED:20221031T161418Z
UID:3881-1668002400-1668007800@racslusofonia.org
SUMMARY:Seminário online "IndexRACS - Rede de Bibliotecas da RACS"
DESCRIPTION:A RACS – Rede Académica das Ciências da Saúde da Lusofonia realiza no próximo dia 09 de novembro de 2022 o Seminário Online dedicado à apresentação da IndexRACS – Rede de Bibliotecas da RACS\, um espaço de diálogo sobre o papel das bibliotecas e dos bibliotecários no apoio à investigação na área das ciências da saúde. \nEsta sessão é dirigida aos técnicos das Bibliotecas/Centros de Documentação das Instituições associadas da RACS e Entidades Parceiras\, sendo possível ainda a inscrição de outros elementos da comunidade académica que tenham interesse em conhecer a IndexRACS. \nHorário:\nBrasília: 11h00 às 12:30\nPraia: 13h00 às 14:30\nBissau/Lisboa/São Tomé: 14:00 às 15:30\nLuanda: 15:00 às 16:30\nMaputo: 16h00 às 17:30 \nConsulte o programa da sessão na página eletrónica do evento\, em: http://i-d.esenf.pt/indexracs/. \nA inscrição é gratuita\, mas obrigatória\, através do preenchimento do formulário para o efeito. \n  \nContamos com a sua presença e participação! \n 
URL:http://racslusofonia.org/event/seminario-online-indexracs-rede-de-bibliotecas-da-racs/
LOCATION:Online
ORGANIZER;CN="Rede Acad%C3%A9mica das Ci%C3%AAncias da Sa%C3%BAde da Lusofonia":MAILTO:geral@racslusofonia.org
END:VEVENT
BEGIN:VEVENT
DTSTART;TZID=Europe/London:20221110T150000
DTEND;TZID=Europe/London:20221110T160000
DTSTAMP:20260423T104610
CREATED:20221024T094605Z
LAST-MODIFIED:20221031T163534Z
UID:3853-1668092400-1668096000@racslusofonia.org
SUMMARY:Webinar “Seguimento em dermofarmácia e cosmética”
DESCRIPTION:O Núcleo Académico de Farmácia/Ciências Farmacêuticas (NAFCF – RACS) da Rede Académica das Ciências da Saúde da Lusofonia realiza um ciclo de sete webinars ao longo do ano de 2022 e início de 2023\, dedicado ao tema “O Estado da Arte em Farmácia e Ciências Farmacêuticas”. \nOs sete webinars são: \n\nWebinar “Microbioma da pele e dermatite atópica” com a Professora Doutora Ana Paula Fonseca\, da ESTESC – Escola Superior de Tecnologia da Saúde de Coimbra – IPC (Portugal)\, no dia 24 de junho de 2022\nWebinar “Farmacogenómica” com a Professora Doutora Marlene Santos\, do Instituto Politécnico do Porto (Portugal)\,  no dia 08 de julho de 2022\nWebinar “Farmácias Vivas” com a Professora Doutora Raquel Moreira (Brasil)\, investigadora em mobilidade na Faculdade de Farmácia da Universidade de Coimbra (Portugal)\, no dia 08 de setembro de 2022\nWebinar “Seguimento em dermofarmácia e cosmética” com a Professora Doutora Tânia do Nascimento\, da Universidade do Algarve (Portugal)\, no dia 10 de novembro de 2022\nWebinar “Caraterização do perfil de intoxicações a nível hospitalar em Portugal” com o Professor Doutor André Araújo Pereira\, do Instituto Politécnico da Guarda (Portugal)\, no dia 16 de dezembro de 2022\nWebinar “A Fitoterapia e os recetores da felicidade” com a Professora Doutora Maria do Céu Costa\, do Instituto Politécnico da Lusofonia (Portugal)\, no dia 27 de janeiro de 2023\nWebinar “As Plantas na Medicina Tradicional Chinesa” com o Professor Mestre Sacha Matias\, da Escola Superior de Saúde Ribeiro Sanches/ Instituto Politécnico da Lusofonia (Portugal)\, no dia 10 de fevereiro de 2023\n\nAs sessões têm a duração de uma hora e decorrem no seguinte horário: \n\nAngola: 16h00\nSão Paulo\, Brasil: 12h00\nCabo Verde: 14h00\nGuiné-Bissau/Portugal/São Tomé e Príncipe: 15h00\nMoçambique: 17h00\n\nA participação é gratuita\, mas sujeita a inscrição através da seguinte ligação: https://videoconf-colibri.zoom.us/meeting/register/tZ0udOqsrz8vHtAwJZIJhZrxnc-uAzH7DQrd. \n  \nContamos com a sua participação neste evento dinamizado pelo Núcleo Académico de Farmácia/Ciências Farmacêuticas da RACS.
URL:http://racslusofonia.org/event/webinar-seguimento-dermofarmacia-cosmetica/
CATEGORIES:Núcleos Académicos da RACS
ORGANIZER;CN="Rede Acad%C3%A9mica das Ci%C3%AAncias da Sa%C3%BAde da Lusofonia":MAILTO:geral@racslusofonia.org
END:VEVENT
END:VCALENDAR