BEGIN:VCALENDAR
VERSION:2.0
PRODID:-//Rede Académica das Ciências da Saúde da Lusofonia - ECPv6.15.20//NONSGML v1.0//EN
CALSCALE:GREGORIAN
METHOD:PUBLISH
X-ORIGINAL-URL:http://racslusofonia.org
X-WR-CALDESC:Eventos para Rede Académica das Ciências da Saúde da Lusofonia
REFRESH-INTERVAL;VALUE=DURATION:PT1H
X-Robots-Tag:noindex
X-PUBLISHED-TTL:PT1H
BEGIN:VTIMEZONE
TZID:Europe/London
BEGIN:DAYLIGHT
TZOFFSETFROM:+0000
TZOFFSETTO:+0100
TZNAME:BST
DTSTART:20220327T010000
END:DAYLIGHT
BEGIN:STANDARD
TZOFFSETFROM:+0100
TZOFFSETTO:+0000
TZNAME:GMT
DTSTART:20221030T010000
END:STANDARD
BEGIN:DAYLIGHT
TZOFFSETFROM:+0000
TZOFFSETTO:+0100
TZNAME:BST
DTSTART:20230326T010000
END:DAYLIGHT
BEGIN:STANDARD
TZOFFSETFROM:+0100
TZOFFSETTO:+0000
TZNAME:GMT
DTSTART:20231029T010000
END:STANDARD
BEGIN:DAYLIGHT
TZOFFSETFROM:+0000
TZOFFSETTO:+0100
TZNAME:BST
DTSTART:20240331T010000
END:DAYLIGHT
BEGIN:STANDARD
TZOFFSETFROM:+0100
TZOFFSETTO:+0000
TZNAME:GMT
DTSTART:20241027T010000
END:STANDARD
END:VTIMEZONE
BEGIN:VEVENT
DTSTART;TZID=Europe/London:20230127T150000
DTEND;TZID=Europe/London:20230127T160000
DTSTAMP:20260425T132609
CREATED:20230120T113059Z
LAST-MODIFIED:20230120T113059Z
UID:4032-1674831600-1674835200@racslusofonia.org
SUMMARY:Webinar "Seguimento em dermofarmácia e cosmética"
DESCRIPTION:No ano de 2022\, o Núcleo Académico de Farmácia/Ciências Farmacêuticas (NAFCF – RACS) da Rede Académica das Ciências da Saúde da Lusofonia iniciou um ciclo de webinars dedicado ao tema “O Estado da Arte em Farmácia e Ciências Farmacêuticas”. Dando continuidade a essa iniciativa\, o NAFCF realiza no ano de 2023 quatro webinars: \n\nWebinar “Seguimento em dermofarmácia e cosmética” com a Professora Doutora Tânia do Nascimento\, da Universidade do Algarve (Portugal)\, no dia 27 de janeiro;\nWebinar “As Plantas na Medicina Tradicional Chinesa” com o Professor Mestre Sacha Matias\, da Escola Superior de Saúde Ribeiro Sanches/ Instituto Politécnico da Lusofonia (Portugal)\, no dia 10 de fevereiro;\nWebinar “Caracterização do perfil de intoxicações a nível hospitalar em Portugal” com o Prof. Doutor André Araújo Pereira\, do Instituto Politécnico da Guarda (Portugal)\, no dia 09 de março;\nWebinar “A Fitoterapia e os recetores da felicidade” com a Professora Doutora Maria do Céu Costa\, do Instituto Politécnico da Lusofonia (Portugal)\, no dia 14 de abril de 2023.\n\nAs sessões têm a duração de uma hora e decorrem no seguinte horário: \n\nAngola: 16h00\nSão Paulo\, Brasil: 12h00\nCabo Verde: 14h00\nGuiné-Bissau/Portugal/São Tomé e Príncipe: 15h00\nMoçambique: 17h00\n\nA participação é gratuita\, mas sujeita a inscrição através da seguinte ligação: https://videoconf-colibri.zoom.us/meeting/register/tZ0udOqsrz8vHtAwJZIJhZrxnc-uAzH7DQrd. \n  \nContamos com a sua participação neste evento dinamizado pelo Núcleo Académico de Farmácia/Ciências Farmacêuticas da RACS. \n \n 
URL:http://racslusofonia.org/event/webinar-seguimento-dermofarmacia-e-cosmetica/
CATEGORIES:Núcleos Académicos da RACS
ORGANIZER;CN="Rede Acad%C3%A9mica das Ci%C3%AAncias da Sa%C3%BAde da Lusofonia":MAILTO:geral@racslusofonia.org
END:VEVENT
END:VCALENDAR