BEGIN:VCALENDAR
VERSION:2.0
PRODID:-//Rede Académica das Ciências da Saúde da Lusofonia - ECPv6.15.20//NONSGML v1.0//EN
CALSCALE:GREGORIAN
METHOD:PUBLISH
X-WR-CALNAME:Rede Académica das Ciências da Saúde da Lusofonia
X-ORIGINAL-URL:http://racslusofonia.org
X-WR-CALDESC:Eventos para Rede Académica das Ciências da Saúde da Lusofonia
REFRESH-INTERVAL;VALUE=DURATION:PT1H
X-Robots-Tag:noindex
X-PUBLISHED-TTL:PT1H
BEGIN:VTIMEZONE
TZID:Europe/London
BEGIN:DAYLIGHT
TZOFFSETFROM:+0000
TZOFFSETTO:+0100
TZNAME:BST
DTSTART:20220327T010000
END:DAYLIGHT
BEGIN:STANDARD
TZOFFSETFROM:+0100
TZOFFSETTO:+0000
TZNAME:GMT
DTSTART:20221030T010000
END:STANDARD
BEGIN:DAYLIGHT
TZOFFSETFROM:+0000
TZOFFSETTO:+0100
TZNAME:BST
DTSTART:20230326T010000
END:DAYLIGHT
BEGIN:STANDARD
TZOFFSETFROM:+0100
TZOFFSETTO:+0000
TZNAME:GMT
DTSTART:20231029T010000
END:STANDARD
BEGIN:DAYLIGHT
TZOFFSETFROM:+0000
TZOFFSETTO:+0100
TZNAME:BST
DTSTART:20240331T010000
END:DAYLIGHT
BEGIN:STANDARD
TZOFFSETFROM:+0100
TZOFFSETTO:+0000
TZNAME:GMT
DTSTART:20241027T010000
END:STANDARD
END:VTIMEZONE
BEGIN:VEVENT
DTSTART;TZID=Europe/London:20230901T143000
DTEND;TZID=Europe/London:20230901T160000
DTSTAMP:20260426T032330
CREATED:20230718T093000Z
LAST-MODIFIED:20230718T093000Z
UID:4399-1693578600-1693584000@racslusofonia.org
SUMMARY:Dia da RACS - Webinar Internacional de Apresentação
DESCRIPTION:  \nNo dia 1 de setembro de 2023 assinala-se o sétimo aniversário da RACS. \nPor ocasião desta data\, a Direção da RACS vai realizar um webinar internacional aberto ao público\, com a duração de cerca de 1h30m\, a decorrer no seguinte horário: \n\n10h30 SP\, Brasil\n12h30 Cabo Verde\n13h30 Guiné-Bissau e S. Tomé e Príncipe\n14h30 Angola e Portugal\n15h30 Moçambique\n22h30 Timor-Leste\n\nEsta sessão tem como objetivo apresentar a Rede e os seus projetos\, bem como os resultados alcançados nos últimos 7 anos de atividade. \nConvidamos todos os interessados a participar deste momento\, nomeadamente os membros das comunidades académicas e científicas das Instituições associadas e Entidades Parceiras da RACS\, membros dos Núcleos Académicos e de outras estruturas internas da RACS\, e ainda\, membros das IES e Entidades não associadas da Rede. \nPrograma da Sessão: \n\nIntervenção do Presidente da Direção da RACS\nApresentação geral da RACS\nApresentação das suas atividades e projetos\nMOTUS – Programa de Mobilidade Académica\nRevSALUS – Revista Científica Internacional\nIndexRACS – Rede de Bibliotecas\nObservatório do Ensino Superior da Saúde em Territórios de Língua Portuguesa – OESSP\nNúcleos Académicos \nEventos: reuniões internacionais e jornadas científicas\nEsclarecimento de questões\n\nAs inscrições são gratuitas e estão disponíveis até ao próximo dia 30 de agosto de 2023 através do preenchimento do formulário de inscrição. \nContamos com a sua participação!
URL:http://racslusofonia.org/event/dia-da-racs-webinar-internacional-de-apresentacao/
LOCATION:Online
ORGANIZER;CN="Rede Acad%C3%A9mica das Ci%C3%AAncias da Sa%C3%BAde da Lusofonia":MAILTO:geral@racslusofonia.org
END:VEVENT
BEGIN:VEVENT
DTSTART;TZID=Europe/London:20230907T140000
DTEND;TZID=Europe/London:20230907T150000
DTSTAMP:20260426T032330
CREATED:20230824T111915Z
LAST-MODIFIED:20230905T143712Z
UID:4462-1694095200-1694098800@racslusofonia.org
SUMMARY:Webinar "Polimedicação no idoso: causas e consequências"
DESCRIPTION:O Núcleo Académico de Farmácia/Ciências Farmacêuticas (NAFCF – RACS) da Rede Académica das Ciências da Saúde da Lusofonia vai realizar novos webinars dedicados ao tema geral “O Estado da Arte em Farmácia e Ciências Farmacêuticas”. A próxima sessão é sobre “Polimedicação no idoso: causas e consequências” com o Professor Doutor Rui Santos Cruz (Portugal)\, no dia 7 de setembro de 2023\, no seguinte horário: \nS. Paulo: 10h-11h\nCabo Verde:12h-13h\nGuiné-Bissau e S. Tomé e Príncipe: 13h-14h\nAngola e Portugal: 14h-15h\nMoçambique: 15h-16h\nTimor-Leste: 22h-23h \nA participação é gratuita\, mas sujeita a inscrição através da seguinte ligação: https://videoconf-colibri.zoom.us/meeting/register/tJMqd-yvqjouEtNksnEEzMO4EzvnGK4W6H8j. \nContamos com a sua participação neste evento dinamizado pelo Núcleo Académico de Farmácia/Ciências Farmacêuticas da RACS.
URL:http://racslusofonia.org/event/webinar-polimedicacao-no-idoso-causas-e-consequencias/
LOCATION:Online
CATEGORIES:Núcleos Académicos da RACS
ORGANIZER;CN="Rede Acad%C3%A9mica das Ci%C3%AAncias da Sa%C3%BAde da Lusofonia":MAILTO:geral@racslusofonia.org
END:VEVENT
END:VCALENDAR