BEGIN:VCALENDAR
VERSION:2.0
PRODID:-//Rede Académica das Ciências da Saúde da Lusofonia - ECPv6.15.20//NONSGML v1.0//EN
CALSCALE:GREGORIAN
METHOD:PUBLISH
X-ORIGINAL-URL:http://racslusofonia.org
X-WR-CALDESC:Eventos para Rede Académica das Ciências da Saúde da Lusofonia
REFRESH-INTERVAL;VALUE=DURATION:PT1H
X-Robots-Tag:noindex
X-PUBLISHED-TTL:PT1H
BEGIN:VTIMEZONE
TZID:Europe/London
BEGIN:DAYLIGHT
TZOFFSETFROM:+0000
TZOFFSETTO:+0100
TZNAME:BST
DTSTART:20220327T010000
END:DAYLIGHT
BEGIN:STANDARD
TZOFFSETFROM:+0100
TZOFFSETTO:+0000
TZNAME:GMT
DTSTART:20221030T010000
END:STANDARD
BEGIN:DAYLIGHT
TZOFFSETFROM:+0000
TZOFFSETTO:+0100
TZNAME:BST
DTSTART:20230326T010000
END:DAYLIGHT
BEGIN:STANDARD
TZOFFSETFROM:+0100
TZOFFSETTO:+0000
TZNAME:GMT
DTSTART:20231029T010000
END:STANDARD
BEGIN:DAYLIGHT
TZOFFSETFROM:+0000
TZOFFSETTO:+0100
TZNAME:BST
DTSTART:20240331T010000
END:DAYLIGHT
BEGIN:STANDARD
TZOFFSETFROM:+0100
TZOFFSETTO:+0000
TZNAME:GMT
DTSTART:20241027T010000
END:STANDARD
END:VTIMEZONE
BEGIN:VEVENT
DTSTART;TZID=Europe/London:20231010T140000
DTEND;TZID=Europe/London:20231010T210000
DTSTAMP:20260426T050906
CREATED:20230914T141754Z
LAST-MODIFIED:20230925T100143Z
UID:4470-1696946400-1696971600@racslusofonia.org
SUMMARY:Saúde Mental: pesquisa\, ensino e intervenção psicossocial em comunidades específicas
DESCRIPTION:O Núcleo Académico de Psicologia da RACS (NAP-RACS)\, à semelhança dos anos anteriores\, prepara-se para comemorar o Dia Mundial da Saúde Mental organizando um evento dedicado ao tema “Saúde Mental – pesquisa\, ensino e intervenção psicossocial em comunidades específicas”. \nO evento realiza-se no próximo dia 10 de outubro de 2023\, em formato híbrido a partir da Universidade Federal do Rio de Janeiro (Brasil)\, e terá uma duração de sete horas\, de acordo com o seguinte horário: \n\nBrasil: 10h00\nCabo Verde: 12h00\nGuiné-Bissau e S. Tomé e Príncipe: 13h00\nAngola e Portugal: 14h00\nMoçambique: 15h00\nTimor-Leste: 22h00\n\nAs inscrições são gratuitas para ambas as modalidades de participação. Aceda à página do evento onde pode encontrar toda a informação sobre o programa e inscrições. \nMarque já na agenda!
URL:http://racslusofonia.org/event/saude-mental-pesquisa-ensino-e-intervencao-psicossocial-em-comunidades-especificas/
LOCATION:Universidade Federal do Rio de Janeiro\, Rio de Janeiro\, Brasil
ORGANIZER;CN="Rede Acad%C3%A9mica das Ci%C3%AAncias da Sa%C3%BAde da Lusofonia":MAILTO:geral@racslusofonia.org
END:VEVENT
BEGIN:VEVENT
DTSTART;VALUE=DATE:20231027
DTEND;VALUE=DATE:20231028
DTSTAMP:20260426T050906
CREATED:20230414T154154Z
LAST-MODIFIED:20230426T151307Z
UID:4189-1698364800-1698451199@racslusofonia.org
SUMMARY:2ª Conferência Lusófona de Terapia Ocupacional
DESCRIPTION:O Núcleo Académico de Terapia Ocupacional (NATO – RACS) da Rede Académica das Ciências da Saúde da Lusofonia – RACS está a organizar a 2.ª Conferência Lusófona de Terapia Ocupacional\, que irá ocorrer no dia 27 de outubro de 2023\, em formato digital. \nEste evento pretende ser uma oportunidade onde os estudantes e terapeutas ocupacionais podem partilhar e adquirir conhecimentos\, experiências\, contactar com novas abordagens\, debater e crescer em conjunto contribuindo assim\, para a promoção\, desenvolvimento e divulgação da Terapia Ocupacional nos países da Lusofonia. \nO tema da conferência\, “Terapia Ocupacional no séc. XXI”\, pretende ser o mote para apresentações\, debate e reflecções em torno da evolução da Terapia Ocupacional e da sua expansão a novos contextos de intervenção e populações\, reforçando a importância de uma prática de excelência. \nEstão abertas a a submissão de artigos e pósteres científicos que foquem diversos campos da Terapia Ocupacional\, numa visão transversal e holística\, com a abordagem de diversas temáticas e dimensões da investigação. \nAs comunicações aceites serão publicadas em livro de atas\, e os artigos selecionados entre os trabalhos submetidos serão publicados na RevSALUS – Revista Científica Internacional da Rede Académica das Ciências da Saúde da Lusofonia. \nNa página oficial do evento encontra as informações sobre inscrição e submissão de artigos e pósteres científicos. Poderá\, ainda\, conhecer os membros constituintes das diferentes Comissões desta conferência. \nContamos com a V/ participação neste evento de âmbito internacional\, dinamizado pelo Núcleo Académico de Terapia Ocupacional da RACS. \n 
URL:http://racslusofonia.org/event/2a-conferencia-lusofona-de-terapia-ocupacional/
CATEGORIES:Núcleos Académicos da RACS
ORGANIZER;CN="Rede Acad%C3%A9mica das Ci%C3%AAncias da Sa%C3%BAde da Lusofonia":MAILTO:geral@racslusofonia.org
END:VEVENT
END:VCALENDAR